BEGIN:VCALENDAR
VERSION:2.0
PRODID:GIGPRESS 2.0 WORDPRESS PLUGIN
CALSCALE:GREGORIAN
X-WR-TIMEZONE:Etc/GMT
METHOD:PUBLISH
BEGIN:VTIMEZONE
TZID:GMT
BEGIN:STANDARD
DTSTART:20071028T010000
TZOFFSETTO:+0000
TZOFFSETFROM:+0000
END:STANDARD
END:VTIMEZONE
BEGIN:VEVENT
SUMMARY:Les Patrons \, Fest des jungen Weines\, im Festzelt auf der Bleiche\, 19:30 bis 01:00 Uhr\, freier Eintritt
DESCRIPTION:: 2026. ohne
LOCATION:Fest des jungen Weines\, im Festzelt auf der Bleiche\, 19:30 bis 01:00 Uhr\, freier Eintritt\, Gau Algesheim\, DE
UID:20261010T173000Z-283-joergseckler@me.com
URL:https://www.lespatrons.de/2014wp
DTSTART;VALUE=DATE-TIME;TZID=GMT:20261010T173000Z
DTEND;VALUE=DATE-TIME;TZID=GMT:20261010T173000Z
DTSTAMP:20260420T020428Z
END:VEVENT
END:VCALENDAR